BEGIN:VCALENDAR
VERSION:2.0
PRODID:-//Certified Facilitative Mediators Association - ECPv6.15.20//NONSGML v1.0//EN
CALSCALE:GREGORIAN
METHOD:PUBLISH
X-ORIGINAL-URL:https://mtcfma.org
X-WR-CALDESC:Events for Certified Facilitative Mediators Association
REFRESH-INTERVAL;VALUE=DURATION:PT1H
X-Robots-Tag:noindex
X-PUBLISHED-TTL:PT1H
BEGIN:VTIMEZONE
TZID:America/Denver
BEGIN:DAYLIGHT
TZOFFSETFROM:-0700
TZOFFSETTO:-0600
TZNAME:MDT
DTSTART:20250309T090000
END:DAYLIGHT
BEGIN:STANDARD
TZOFFSETFROM:-0600
TZOFFSETTO:-0700
TZNAME:MST
DTSTART:20251102T080000
END:STANDARD
BEGIN:DAYLIGHT
TZOFFSETFROM:-0700
TZOFFSETTO:-0600
TZNAME:MDT
DTSTART:20260308T090000
END:DAYLIGHT
BEGIN:STANDARD
TZOFFSETFROM:-0600
TZOFFSETTO:-0700
TZNAME:MST
DTSTART:20261101T080000
END:STANDARD
BEGIN:DAYLIGHT
TZOFFSETFROM:-0700
TZOFFSETTO:-0600
TZNAME:MDT
DTSTART:20270314T090000
END:DAYLIGHT
BEGIN:STANDARD
TZOFFSETFROM:-0600
TZOFFSETTO:-0700
TZNAME:MST
DTSTART:20271107T080000
END:STANDARD
END:VTIMEZONE
BEGIN:VEVENT
DTSTART;TZID=America/Denver:20261211T130000
DTEND;TZID=America/Denver:20261211T140000
DTSTAMP:20260425T161650
CREATED:20260101T212957Z
LAST-MODIFIED:20260101T212957Z
UID:3737-1796994000-1796997600@mtcfma.org
SUMMARY:Second Fridays - Mediator Community
DESCRIPTION:The 2nd Fridays Mediator Community is a recurring meeting that earn CEUs approved by Certified Facilitative Mediators Association (CFMA). \n– Promoting Mediation Throughout Montana – \n– Mediators Supporting One Another – \n– Networking Done Right –
URL:https://mtcfma.org/event/second-fridays-mediator-community-24/
LOCATION:None
ORGANIZER;CN="Certified Facilitative Mediators Association":MAILTO:info@mtcfma.org
END:VEVENT
END:VCALENDAR