BEGIN:VCALENDAR
VERSION:2.0
PRODID:-//Certified Facilitative Mediators Association - ECPv6.15.20//NONSGML v1.0//EN
CALSCALE:GREGORIAN
METHOD:PUBLISH
X-ORIGINAL-URL:https://mtcfma.org
X-WR-CALDESC:Events for Certified Facilitative Mediators Association
REFRESH-INTERVAL;VALUE=DURATION:PT1H
X-Robots-Tag:noindex
X-PUBLISHED-TTL:PT1H
BEGIN:VTIMEZONE
TZID:UTC
BEGIN:STANDARD
TZOFFSETFROM:+0000
TZOFFSETTO:+0000
TZNAME:UTC
DTSTART:20250101T000000
END:STANDARD
END:VTIMEZONE
BEGIN:VTIMEZONE
TZID:America/Denver
BEGIN:DAYLIGHT
TZOFFSETFROM:-0700
TZOFFSETTO:-0600
TZNAME:MDT
DTSTART:20250309T090000
END:DAYLIGHT
BEGIN:STANDARD
TZOFFSETFROM:-0600
TZOFFSETTO:-0700
TZNAME:MST
DTSTART:20251102T080000
END:STANDARD
BEGIN:DAYLIGHT
TZOFFSETFROM:-0700
TZOFFSETTO:-0600
TZNAME:MDT
DTSTART:20260308T090000
END:DAYLIGHT
BEGIN:STANDARD
TZOFFSETFROM:-0600
TZOFFSETTO:-0700
TZNAME:MST
DTSTART:20261101T080000
END:STANDARD
BEGIN:DAYLIGHT
TZOFFSETFROM:-0700
TZOFFSETTO:-0600
TZNAME:MDT
DTSTART:20270314T090000
END:DAYLIGHT
BEGIN:STANDARD
TZOFFSETFROM:-0600
TZOFFSETTO:-0700
TZNAME:MST
DTSTART:20271107T080000
END:STANDARD
END:VTIMEZONE
BEGIN:VTIMEZONE
TZID:America/Denver
BEGIN:DAYLIGHT
TZOFFSETFROM:-0700
TZOFFSETTO:-0600
TZNAME:MDT
DTSTART:20250309T090000
END:DAYLIGHT
BEGIN:STANDARD
TZOFFSETFROM:-0600
TZOFFSETTO:-0700
TZNAME:MST
DTSTART:20251102T080000
END:STANDARD
BEGIN:DAYLIGHT
TZOFFSETFROM:-0700
TZOFFSETTO:-0600
TZNAME:MDT
DTSTART:20260308T090000
END:DAYLIGHT
BEGIN:STANDARD
TZOFFSETFROM:-0600
TZOFFSETTO:-0700
TZNAME:MST
DTSTART:20261101T080000
END:STANDARD
BEGIN:DAYLIGHT
TZOFFSETFROM:-0700
TZOFFSETTO:-0600
TZNAME:MDT
DTSTART:20270314T090000
END:DAYLIGHT
BEGIN:STANDARD
TZOFFSETFROM:-0600
TZOFFSETTO:-0700
TZNAME:MST
DTSTART:20271107T080000
END:STANDARD
END:VTIMEZONE
BEGIN:VEVENT
DTSTART;TZID=UTC:20260119T000000
DTEND;TZID=UTC:20260329T000000
DTSTAMP:20260425T161539
CREATED:20250215T214818Z
LAST-MODIFIED:20260101T210332Z
UID:3695-1768780800-1774742400@mtcfma.org
SUMMARY:Training - Spring 2026 Fundamentals of Mediation
DESCRIPTION:REGISTER NOW !  \n​​2026 Annual Spring Fundamentals Training\nAccessible & Affordable Hybrid Training – Annual Kickoff Martin Luther King Jr Day (2026)\n​Billings Mediation Center hosts its 8th Annual 40-hour mediation hybrid training with additional 10 hours of virtual and interactive role-plays via Zoom.  This on-demand training with Dr. Fowler of Mediate University is offered over the course of eight (8) weeks\, consisting of an average of 5 hours of instruction per week.  This hosting provides all the buddy-system you need to apply the training and excel.\nLimited Number of Scholarships are Available\nCheck out our Skills Lab:  Skills Lab @Conflict Resilience
URL:https://mtcfma.org/event/training-spring-2026-fundamentals-of-mediation/
LOCATION:MT
END:VEVENT
BEGIN:VEVENT
DTSTART;TZID=UTC:20260326T080000
DTEND;TZID=UTC:20260327T170000
DTSTAMP:20260425T161539
CREATED:20260111T232443Z
LAST-MODIFIED:20260111T232554Z
UID:3740-1774512000-1774630800@mtcfma.org
SUMMARY:2026 NWDR Conference
DESCRIPTION:Bridging Divides: The Art and Science of Modern Dispute Resolution \nHave you considered a visit to the Pacific Northwest?  This could be your opportunity!
URL:https://mtcfma.org/event/2026-nwdr-conference/
LOCATION:MT
END:VEVENT
BEGIN:VEVENT
DTSTART;TZID=UTC:20260410T130000
DTEND;TZID=UTC:20260410T140000
DTSTAMP:20260425T161539
CREATED:20260101T211001Z
LAST-MODIFIED:20260101T211001Z
UID:3720-1775826000-1775829600@mtcfma.org
SUMMARY:Second Fridays - Mediator Community
DESCRIPTION:The 2nd Fridays Mediator Community is a recurring meeting that earn CEUs approved by Certified Facilitative Mediators Association (CFMA). \n– Promoting Mediation Throughout Montana – \n– Mediators Supporting One Another – \n– Networking Done Right –
URL:https://mtcfma.org/event/second-fridays-mediator-community-16/
LOCATION:None
ORGANIZER;CN="Certified Facilitative Mediators Association":MAILTO:info@mtcfma.org
END:VEVENT
BEGIN:VEVENT
DTSTART;TZID=UTC:20260508T130000
DTEND;TZID=UTC:20260508T140000
DTSTAMP:20260425T161539
CREATED:20260101T211200Z
LAST-MODIFIED:20260101T211200Z
UID:3722-1778245200-1778248800@mtcfma.org
SUMMARY:Second Fridays - Mediator Community
DESCRIPTION:The 2nd Fridays Mediator Community is a recurring meeting that earn CEUs approved by Certified Facilitative Mediators Association (CFMA). \n– Promoting Mediation Throughout Montana – \n– Mediators Supporting One Another – \n– Networking Done Right –
URL:https://mtcfma.org/event/second-fridays-mediator-community-17/
LOCATION:None
ORGANIZER;CN="Certified Facilitative Mediators Association":MAILTO:info@mtcfma.org
END:VEVENT
BEGIN:VEVENT
DTSTART;TZID=America/Denver:20260512T120000
DTEND;TZID=America/Denver:20260513T130000
DTSTAMP:20260425T161539
CREATED:20260412T232958Z
LAST-MODIFIED:20260415T185739Z
UID:3743-1778587200-1778677200@mtcfma.org
SUMMARY:3rd Annual Conference - CFMA (Virtual / Interactive)
DESCRIPTION:A mediator is encouraged to join with other mediators and members of related professions to promote professional development. CFMA helps mediators connect as a community through learning opportunities and networking events. \nREGISTER TODAY! – CFMA’s third annual conference \nMay 12-13\, 2026 \nVirtual / Interactive by Zoom \nJoin us for exciting education and networking opportunities! \n 
URL:https://mtcfma.org/event/3rd-annual-conference-cfma-virtual-interactive/
LOCATION:Virtual / Zoom\, MT\, United States
ORGANIZER;CN="Billings Mediation Center":MAILTO:info@billingsmediationcenter.org
END:VEVENT
BEGIN:VEVENT
DTSTART;TZID=UTC:20260612T130000
DTEND;TZID=UTC:20260612T140000
DTSTAMP:20260425T161539
CREATED:20260101T211849Z
LAST-MODIFIED:20260101T211925Z
UID:3724-1781269200-1781272800@mtcfma.org
SUMMARY:Second Fridays - Mediator Community
DESCRIPTION:The 2nd Fridays Mediator Community is a recurring meeting that earn CEUs approved by Certified Facilitative Mediators Association (CFMA). \n– Promoting Mediation Throughout Montana – \n– Mediators Supporting One Another – \n– Networking Done Right –
URL:https://mtcfma.org/event/second-fridays-mediator-community-18/
LOCATION:None
ORGANIZER;CN="Certified Facilitative Mediators Association":MAILTO:info@mtcfma.org
END:VEVENT
BEGIN:VEVENT
DTSTART;TZID=UTC:20260710T130000
DTEND;TZID=UTC:20260710T140000
DTSTAMP:20260425T161539
CREATED:20260101T212006Z
LAST-MODIFIED:20260101T212006Z
UID:3725-1783688400-1783692000@mtcfma.org
SUMMARY:Second Fridays - Mediator Community
DESCRIPTION:The 2nd Fridays Mediator Community is a recurring meeting that earn CEUs approved by Certified Facilitative Mediators Association (CFMA). \n– Promoting Mediation Throughout Montana – \n– Mediators Supporting One Another – \n– Networking Done Right –
URL:https://mtcfma.org/event/second-fridays-mediator-community-19/
LOCATION:None
ORGANIZER;CN="Certified Facilitative Mediators Association":MAILTO:info@mtcfma.org
END:VEVENT
BEGIN:VEVENT
DTSTART;TZID=UTC:20260814T130000
DTEND;TZID=UTC:20260814T140000
DTSTAMP:20260425T161539
CREATED:20260101T212118Z
LAST-MODIFIED:20260101T212118Z
UID:3728-1786712400-1786716000@mtcfma.org
SUMMARY:Second Fridays - Mediator Community
DESCRIPTION:The 2nd Fridays Mediator Community is a recurring meeting that earn CEUs approved by Certified Facilitative Mediators Association (CFMA). \n– Promoting Mediation Throughout Montana – \n– Mediators Supporting One Another – \n– Networking Done Right –
URL:https://mtcfma.org/event/second-fridays-mediator-community-20/
LOCATION:None
ORGANIZER;CN="Certified Facilitative Mediators Association":MAILTO:info@mtcfma.org
END:VEVENT
BEGIN:VEVENT
DTSTART;TZID=America/Denver:20260911T130000
DTEND;TZID=America/Denver:20260911T140000
DTSTAMP:20260425T161539
CREATED:20260101T212632Z
LAST-MODIFIED:20260101T212752Z
UID:3731-1789131600-1789135200@mtcfma.org
SUMMARY:Second Fridays - Mediator Community
DESCRIPTION:The 2nd Fridays Mediator Community is a recurring meeting that earn CEUs approved by Certified Facilitative Mediators Association (CFMA). \n– Promoting Mediation Throughout Montana – \n– Mediators Supporting One Another – \n– Networking Done Right –
URL:https://mtcfma.org/event/second-fridays-mediator-community-21/
LOCATION:None
ORGANIZER;CN="Certified Facilitative Mediators Association":MAILTO:info@mtcfma.org
END:VEVENT
BEGIN:VEVENT
DTSTART;TZID=America/Denver:20261009T130000
DTEND;TZID=America/Denver:20261009T140000
DTSTAMP:20260425T161539
CREATED:20260101T212829Z
LAST-MODIFIED:20260101T212829Z
UID:3733-1791550800-1791554400@mtcfma.org
SUMMARY:Second Fridays - Mediator Community
DESCRIPTION:The 2nd Fridays Mediator Community is a recurring meeting that earn CEUs approved by Certified Facilitative Mediators Association (CFMA). \n– Promoting Mediation Throughout Montana – \n– Mediators Supporting One Another – \n– Networking Done Right –
URL:https://mtcfma.org/event/second-fridays-mediator-community-22/
LOCATION:None
ORGANIZER;CN="Certified Facilitative Mediators Association":MAILTO:info@mtcfma.org
END:VEVENT
BEGIN:VEVENT
DTSTART;TZID=America/Denver:20261113T130000
DTEND;TZID=America/Denver:20261113T140000
DTSTAMP:20260425T161539
CREATED:20260101T212914Z
LAST-MODIFIED:20260101T212914Z
UID:3735-1794574800-1794578400@mtcfma.org
SUMMARY:Second Fridays - Mediator Community
DESCRIPTION:The 2nd Fridays Mediator Community is a recurring meeting that earn CEUs approved by Certified Facilitative Mediators Association (CFMA). \n– Promoting Mediation Throughout Montana – \n– Mediators Supporting One Another – \n– Networking Done Right –
URL:https://mtcfma.org/event/second-fridays-mediator-community-23/
LOCATION:None
ORGANIZER;CN="Certified Facilitative Mediators Association":MAILTO:info@mtcfma.org
END:VEVENT
BEGIN:VEVENT
DTSTART;TZID=America/Denver:20261211T130000
DTEND;TZID=America/Denver:20261211T140000
DTSTAMP:20260425T161539
CREATED:20260101T212957Z
LAST-MODIFIED:20260101T212957Z
UID:3737-1796994000-1796997600@mtcfma.org
SUMMARY:Second Fridays - Mediator Community
DESCRIPTION:The 2nd Fridays Mediator Community is a recurring meeting that earn CEUs approved by Certified Facilitative Mediators Association (CFMA). \n– Promoting Mediation Throughout Montana – \n– Mediators Supporting One Another – \n– Networking Done Right –
URL:https://mtcfma.org/event/second-fridays-mediator-community-24/
LOCATION:None
ORGANIZER;CN="Certified Facilitative Mediators Association":MAILTO:info@mtcfma.org
END:VEVENT
END:VCALENDAR