BEGIN:VCALENDAR
VERSION:2.0
PRODID:-//Certified Facilitative Mediators Association - ECPv6.15.20//NONSGML v1.0//EN
CALSCALE:GREGORIAN
METHOD:PUBLISH
X-WR-CALNAME:Certified Facilitative Mediators Association
X-ORIGINAL-URL:https://mtcfma.org
X-WR-CALDESC:Events for Certified Facilitative Mediators Association
REFRESH-INTERVAL;VALUE=DURATION:PT1H
X-Robots-Tag:noindex
X-PUBLISHED-TTL:PT1H
BEGIN:VTIMEZONE
TZID:UTC
BEGIN:STANDARD
TZOFFSETFROM:+0000
TZOFFSETTO:+0000
TZNAME:UTC
DTSTART:20230101T000000
END:STANDARD
END:VTIMEZONE
BEGIN:VTIMEZONE
TZID:America/Denver
BEGIN:DAYLIGHT
TZOFFSETFROM:-0700
TZOFFSETTO:-0600
TZNAME:MDT
DTSTART:20240310T090000
END:DAYLIGHT
BEGIN:STANDARD
TZOFFSETFROM:-0600
TZOFFSETTO:-0700
TZNAME:MST
DTSTART:20241103T080000
END:STANDARD
BEGIN:DAYLIGHT
TZOFFSETFROM:-0700
TZOFFSETTO:-0600
TZNAME:MDT
DTSTART:20250309T090000
END:DAYLIGHT
BEGIN:STANDARD
TZOFFSETFROM:-0600
TZOFFSETTO:-0700
TZNAME:MST
DTSTART:20251102T080000
END:STANDARD
BEGIN:DAYLIGHT
TZOFFSETFROM:-0700
TZOFFSETTO:-0600
TZNAME:MDT
DTSTART:20260308T090000
END:DAYLIGHT
BEGIN:STANDARD
TZOFFSETFROM:-0600
TZOFFSETTO:-0700
TZNAME:MST
DTSTART:20261101T080000
END:STANDARD
END:VTIMEZONE
BEGIN:VEVENT
DTSTART;TZID=UTC:20260410T130000
DTEND;TZID=UTC:20260410T140000
DTSTAMP:20260425T161539
CREATED:20260101T211001Z
LAST-MODIFIED:20260101T211001Z
UID:3720-1775826000-1775829600@mtcfma.org
SUMMARY:Second Fridays - Mediator Community
DESCRIPTION:The 2nd Fridays Mediator Community is a recurring meeting that earn CEUs approved by Certified Facilitative Mediators Association (CFMA). \n– Promoting Mediation Throughout Montana – \n– Mediators Supporting One Another – \n– Networking Done Right –
URL:https://mtcfma.org/event/second-fridays-mediator-community-16/
LOCATION:None
ORGANIZER;CN="Certified Facilitative Mediators Association":MAILTO:info@mtcfma.org
END:VEVENT
BEGIN:VEVENT
DTSTART;TZID=UTC:20260326T080000
DTEND;TZID=UTC:20260327T170000
DTSTAMP:20260425T161539
CREATED:20260111T232443Z
LAST-MODIFIED:20260111T232554Z
UID:3740-1774512000-1774630800@mtcfma.org
SUMMARY:2026 NWDR Conference
DESCRIPTION:Bridging Divides: The Art and Science of Modern Dispute Resolution \nHave you considered a visit to the Pacific Northwest?  This could be your opportunity!
URL:https://mtcfma.org/event/2026-nwdr-conference/
LOCATION:MT
END:VEVENT
BEGIN:VEVENT
DTSTART;TZID=UTC:20260313T130000
DTEND;TZID=UTC:20260313T140000
DTSTAMP:20260425T161539
CREATED:20260101T210859Z
LAST-MODIFIED:20260101T210859Z
UID:3718-1773406800-1773410400@mtcfma.org
SUMMARY:Second Fridays - Mediator Community
DESCRIPTION:The 2nd Fridays Mediator Community is a recurring meeting that earn CEUs approved by Certified Facilitative Mediators Association (CFMA). \n– Promoting Mediation Throughout Montana – \n– Mediators Supporting One Another – \n– Networking Done Right –
URL:https://mtcfma.org/event/second-fridays-mediator-community-15/
LOCATION:None
ORGANIZER;CN="Certified Facilitative Mediators Association":MAILTO:info@mtcfma.org
END:VEVENT
BEGIN:VEVENT
DTSTART;TZID=UTC:20260213T130000
DTEND;TZID=UTC:20260213T140000
DTSTAMP:20260425T161539
CREATED:20260101T210821Z
LAST-MODIFIED:20260101T210821Z
UID:3716-1770987600-1770991200@mtcfma.org
SUMMARY:Second Fridays - Mediator Community
DESCRIPTION:The 2nd Fridays Mediator Community is a recurring meeting that earn CEUs approved by Certified Facilitative Mediators Association (CFMA). \n– Promoting Mediation Throughout Montana – \n– Mediators Supporting One Another – \n– Networking Done Right –
URL:https://mtcfma.org/event/second-fridays-mediator-community-14/
LOCATION:None
ORGANIZER;CN="Certified Facilitative Mediators Association":MAILTO:info@mtcfma.org
END:VEVENT
BEGIN:VEVENT
DTSTART;TZID=UTC:20260119T000000
DTEND;TZID=UTC:20260329T000000
DTSTAMP:20260425T161539
CREATED:20250215T214818Z
LAST-MODIFIED:20260101T210332Z
UID:3695-1768780800-1774742400@mtcfma.org
SUMMARY:Training - Spring 2026 Fundamentals of Mediation
DESCRIPTION:REGISTER NOW !  \n​​2026 Annual Spring Fundamentals Training\nAccessible & Affordable Hybrid Training – Annual Kickoff Martin Luther King Jr Day (2026)\n​Billings Mediation Center hosts its 8th Annual 40-hour mediation hybrid training with additional 10 hours of virtual and interactive role-plays via Zoom.  This on-demand training with Dr. Fowler of Mediate University is offered over the course of eight (8) weeks\, consisting of an average of 5 hours of instruction per week.  This hosting provides all the buddy-system you need to apply the training and excel.\nLimited Number of Scholarships are Available\nCheck out our Skills Lab:  Skills Lab @Conflict Resilience
URL:https://mtcfma.org/event/training-spring-2026-fundamentals-of-mediation/
LOCATION:MT
END:VEVENT
BEGIN:VEVENT
DTSTART;TZID=UTC:20260109T130000
DTEND;TZID=UTC:20260109T140000
DTSTAMP:20260425T161539
CREATED:20260101T210654Z
LAST-MODIFIED:20260101T210654Z
UID:3714-1767963600-1767967200@mtcfma.org
SUMMARY:Second Fridays - Mediator Community
DESCRIPTION:The 2nd Fridays Mediator Community is a recurring meeting that earn CEUs approved by Certified Facilitative Mediators Association (CFMA). \n– Promoting Mediation Throughout Montana – \n– Mediators Supporting One Another – \n– Networking Done Right –
URL:https://mtcfma.org/event/second-fridays-mediator-community-13/
LOCATION:None
ORGANIZER;CN="Certified Facilitative Mediators Association":MAILTO:info@mtcfma.org
END:VEVENT
BEGIN:VEVENT
DTSTART;TZID=UTC:20250912T130000
DTEND;TZID=UTC:20250912T140000
DTSTAMP:20260425T161539
CREATED:20240924T232639Z
LAST-MODIFIED:20240924T232639Z
UID:3643-1757682000-1757685600@mtcfma.org
SUMMARY:Second Fridays - Mediator Community
DESCRIPTION:The 2nd Fridays Mediator Community is a recurring meeting that earn CEUs approved by Certified Facilitative Mediators Association (CFMA). \n– Promoting Mediation Throughout Montana – \n– Mediators Supporting One Another – \n– Networking Done Right –
URL:https://mtcfma.org/event/second-fridays-mediator-community-12/
LOCATION:None
ORGANIZER;CN="Certified Facilitative Mediators Association":MAILTO:info@mtcfma.org
END:VEVENT
BEGIN:VEVENT
DTSTART;TZID=UTC:20250808T130000
DTEND;TZID=UTC:20250808T140000
DTSTAMP:20260425T161539
CREATED:20240924T232616Z
LAST-MODIFIED:20240924T232616Z
UID:3641-1754658000-1754661600@mtcfma.org
SUMMARY:Second Fridays - Mediator Community
DESCRIPTION:The 2nd Fridays Mediator Community is a recurring meeting that earn CEUs approved by Certified Facilitative Mediators Association (CFMA). \n– Promoting Mediation Throughout Montana – \n– Mediators Supporting One Another – \n– Networking Done Right –
URL:https://mtcfma.org/event/second-fridays-mediator-community-11/
LOCATION:None
ORGANIZER;CN="Certified Facilitative Mediators Association":MAILTO:info@mtcfma.org
END:VEVENT
BEGIN:VEVENT
DTSTART;TZID=UTC:20250711T130000
DTEND;TZID=UTC:20250711T140000
DTSTAMP:20260425T161539
CREATED:20240924T232548Z
LAST-MODIFIED:20240924T232548Z
UID:3639-1752238800-1752242400@mtcfma.org
SUMMARY:Second Fridays - Mediator Community
DESCRIPTION:The 2nd Fridays Mediator Community is a recurring meeting that earn CEUs approved by Certified Facilitative Mediators Association (CFMA). \n– Promoting Mediation Throughout Montana – \n– Mediators Supporting One Another – \n– Networking Done Right –
URL:https://mtcfma.org/event/second-fridays-mediator-community-10/
LOCATION:None
ORGANIZER;CN="Certified Facilitative Mediators Association":MAILTO:info@mtcfma.org
END:VEVENT
BEGIN:VEVENT
DTSTART;TZID=UTC:20250613T130000
DTEND;TZID=UTC:20250613T140000
DTSTAMP:20260425T161539
CREATED:20240924T232521Z
LAST-MODIFIED:20240924T232521Z
UID:3637-1749819600-1749823200@mtcfma.org
SUMMARY:Second Fridays - Mediator Community
DESCRIPTION:The 2nd Fridays Mediator Community is a recurring meeting that earn CEUs approved by Certified Facilitative Mediators Association (CFMA). \n– Promoting Mediation Throughout Montana – \n– Mediators Supporting One Another – \n– Networking Done Right –
URL:https://mtcfma.org/event/second-fridays-mediator-community-9/
LOCATION:None
ORGANIZER;CN="Certified Facilitative Mediators Association":MAILTO:info@mtcfma.org
END:VEVENT
BEGIN:VEVENT
DTSTART;TZID=America/Denver:20250509T130000
DTEND;TZID=America/Denver:20250509T140000
DTSTAMP:20260425T161539
CREATED:20250215T215445Z
LAST-MODIFIED:20250502T003010Z
UID:3698-1746795600-1746799200@mtcfma.org
SUMMARY:Across State Lines @2nd Fridays
DESCRIPTION:Join us on Zoom!  A quarterly segment of the 2nd Fridays Mediator Networking includes friends\, students\, and professional practitioners of mediation regionally\, including Colorado\, Idaho\, Montana\, and Washington attendees.  MORE states are welcome!\nRequest Reminders to 2nd Fridays by emailing: info@billingsmediationcenter.org
URL:https://mtcfma.org/event/across-state-lines-2nd-fridays-2/
LOCATION:None
ORGANIZER;CN="Certified Facilitative Mediators Association":MAILTO:info@mtcfma.org
END:VEVENT
BEGIN:VEVENT
DTSTART;TZID=UTC:20250509T130000
DTEND;TZID=UTC:20250509T140000
DTSTAMP:20260425T161539
CREATED:20240924T232457Z
LAST-MODIFIED:20240924T232457Z
UID:3635-1746795600-1746799200@mtcfma.org
SUMMARY:Second Fridays - Mediator Community
DESCRIPTION:The 2nd Fridays Mediator Community is a recurring meeting that earn CEUs approved by Certified Facilitative Mediators Association (CFMA). \n– Promoting Mediation Throughout Montana – \n– Mediators Supporting One Another – \n– Networking Done Right –
URL:https://mtcfma.org/event/second-fridays-mediator-community-8/
LOCATION:None
ORGANIZER;CN="Certified Facilitative Mediators Association":MAILTO:info@mtcfma.org
END:VEVENT
BEGIN:VEVENT
DTSTART;TZID=UTC:20250501T080000
DTEND;TZID=UTC:20250525T170000
DTSTAMP:20260425T161539
CREATED:20250502T003745Z
LAST-MODIFIED:20250502T003745Z
UID:3711-1746086400-1748192400@mtcfma.org
SUMMARY:So you want to be a Mediator?
DESCRIPTION:Our mediating neighbor Elizabeth Franz of Mediatorz is offering a series of events titled “So you want to be a Mediator?” \nThis offer is a free 1 hour session every Tues and Thursday for the month of May to talk to people considering becoming a mediator. \nCheck out all the opportunities on her calendar: https://mediatorzpractice.com/training-calendar/ \nElizabeth M. Franz — a professional mediator\, professor at the University of Colorado Boulder\, designer of the Humanz Universal Mediation Model (HUMM) and founder of three interconnected collectives that are transforming the way people learn\, practice\, and apply conflict resolution.
URL:https://mtcfma.org/event/so-you-want-to-be-a-mediator/
LOCATION:MT
ORGANIZER;CN="Certified Facilitative Mediators Association":MAILTO:info@mtcfma.org
END:VEVENT
BEGIN:VEVENT
DTSTART;TZID=UTC:20250411T130000
DTEND;TZID=UTC:20250411T140000
DTSTAMP:20260425T161539
CREATED:20240924T232437Z
LAST-MODIFIED:20240924T232437Z
UID:3633-1744376400-1744380000@mtcfma.org
SUMMARY:Second Fridays - Mediator Community
DESCRIPTION:The 2nd Fridays Mediator Community is a recurring meeting that earn CEUs approved by Certified Facilitative Mediators Association (CFMA). \n– Promoting Mediation Throughout Montana – \n– Mediators Supporting One Another – \n– Networking Done Right –
URL:https://mtcfma.org/event/second-fridays-mediator-community-7/
LOCATION:None
ORGANIZER;CN="Certified Facilitative Mediators Association":MAILTO:info@mtcfma.org
END:VEVENT
BEGIN:VEVENT
DTSTART;TZID=UTC:20250327T080000
DTEND;TZID=UTC:20250327T170000
DTSTAMP:20260425T161539
CREATED:20250215T220014Z
LAST-MODIFIED:20250217T202526Z
UID:3700-1743062400-1743094800@mtcfma.org
SUMMARY:NW Dispute Resolution Conference 2025
DESCRIPTION:Registration: is now open for the 27th Northwest Dispute Resolution Conference\, which will be held on March 27 and 28\, 2025 at the University of Washington School of Law. Early Bird rates apply through February 14. \nSocial Media: You can follow the conference\, led by the WSBA DR Section\, on social media – LinkedIn\, Facebook and Bluesky. \nSponsorships: Sponsorships support speakers’ travel expenses through honoraria\, defray conference costs and help us keep registration affordable to advance our broad participation and equity goals. For more information and to become a conference sponsor\, please email Info@NWDRConference.org and put “SPONSORSHIP” in the subject line. \n\n$360/full conference\, Thursday and Friday\, March 27 & 28\, all sessions\n$245/Thursday ONLY\, March 27\n$235/Friday ONLY\, March 28
URL:https://mtcfma.org/event/nw-dispute-resolution-conference-2025/
LOCATION:MT
END:VEVENT
BEGIN:VEVENT
DTSTART;TZID=UTC:20250314T130000
DTEND;TZID=UTC:20250314T140000
DTSTAMP:20260425T161539
CREATED:20240924T232357Z
LAST-MODIFIED:20240924T232357Z
UID:3631-1741957200-1741960800@mtcfma.org
SUMMARY:Second Fridays - Mediator Community
DESCRIPTION:The 2nd Fridays Mediator Community is a recurring meeting that earn CEUs approved by Certified Facilitative Mediators Association (CFMA). \n– Promoting Mediation Throughout Montana – \n– Mediators Supporting One Another – \n– Networking Done Right –
URL:https://mtcfma.org/event/second-fridays-mediator-community-6/
LOCATION:None
ORGANIZER;CN="Certified Facilitative Mediators Association":MAILTO:info@mtcfma.org
END:VEVENT
BEGIN:VEVENT
DTSTART;TZID=UTC:20250305T150000
DTEND;TZID=UTC:20250308T200000
DTSTAMP:20260425T161539
CREATED:20250213T175540Z
LAST-MODIFIED:20250213T175540Z
UID:3692-1741186800-1741464000@mtcfma.org
SUMMARY:DV Course for Mediators and Parenting Coordinators
DESCRIPTION:Neuro Mediation Group Presents 20 Hour Course Mediating Cases with Domestic Violence\nVia Zoom\, 4-session series\, Beginning March 5-March 8\nCost:  $550\nImportant: The course begins on March 5th\, so it is important to register as soon as possible. \nThis course is tailored for individuals who mediate cases potentially involving domestic violence\, those wishing to deepen their understanding and ability to relate to those affected by domestic violence\, and professionals seeking to fulfill the training requirements to become parenting coordinators. \nContact Neuro Mediation Group for more details and to register:\nCarol Barkes:  208-477-8973 or Carol@CarolBarkes.com \n 
URL:https://mtcfma.org/event/dv-course-for-mediators-and-parenting-coordinators/
LOCATION:MT
END:VEVENT
BEGIN:VEVENT
DTSTART;TZID=America/Denver:20250214T130000
DTEND;TZID=America/Denver:20250214T140000
DTSTAMP:20260425T161539
CREATED:20241116T145346Z
LAST-MODIFIED:20250215T220813Z
UID:3668-1739538000-1739541600@mtcfma.org
SUMMARY:Across State Lines @2nd Fridays
DESCRIPTION:Join us on Zoom!  A quarterly segment of the 2nd Fridays Mediator Networking includes friends\, students\, and professional practitioners of mediation regionally\, including Colorado\, Idaho\, Montana\, and Washington attendees.  MORE states are welcome!\nRequest Reminders to 2nd Fridays by emailing: info@billingsmediationcenter.org
URL:https://mtcfma.org/event/across-state-lines-2nd-fridays/
LOCATION:None
ORGANIZER;CN="Billings Mediation Center":MAILTO:info@billingsmediationcenter.org
END:VEVENT
BEGIN:VEVENT
DTSTART;TZID=UTC:20250214T130000
DTEND;TZID=UTC:20250214T140000
DTSTAMP:20260425T161539
CREATED:20240924T232329Z
LAST-MODIFIED:20240924T232329Z
UID:3629-1739538000-1739541600@mtcfma.org
SUMMARY:Second Fridays - Mediator Community
DESCRIPTION:The 2nd Fridays Mediator Community is a recurring meeting that earn CEUs approved by Certified Facilitative Mediators Association (CFMA). \n– Promoting Mediation Throughout Montana – \n– Mediators Supporting One Another – \n– Networking Done Right –
URL:https://mtcfma.org/event/second-fridays-mediator-community-5/
LOCATION:None
ORGANIZER;CN="Certified Facilitative Mediators Association":MAILTO:info@mtcfma.org
END:VEVENT
BEGIN:VEVENT
DTSTART;TZID=UTC:20250110T130000
DTEND;TZID=UTC:20250110T140000
DTSTAMP:20260425T161539
CREATED:20240924T232259Z
LAST-MODIFIED:20240924T232259Z
UID:3627-1736514000-1736517600@mtcfma.org
SUMMARY:Second Fridays - Mediator Community
DESCRIPTION:The 2nd Fridays Mediator Community is a recurring meeting that earn CEUs approved by Certified Facilitative Mediators Association (CFMA). \n– Promoting Mediation Throughout Montana – \n– Mediators Supporting One Another – \n– Networking Done Right –
URL:https://mtcfma.org/event/second-fridays-mediator-community-4/
LOCATION:None
ORGANIZER;CN="Certified Facilitative Mediators Association":MAILTO:info@mtcfma.org
END:VEVENT
BEGIN:VEVENT
DTSTART;TZID=UTC:20241213T130000
DTEND;TZID=UTC:20241213T140000
DTSTAMP:20260425T161539
CREATED:20240924T232232Z
LAST-MODIFIED:20240924T232232Z
UID:3625-1734094800-1734098400@mtcfma.org
SUMMARY:Second Fridays - Mediator Community
DESCRIPTION:The 2nd Fridays Mediator Community is a recurring meeting that earn CEUs approved by Certified Facilitative Mediators Association (CFMA). \n– Promoting Mediation Throughout Montana – \n– Mediators Supporting One Another – \n– Networking Done Right –
URL:https://mtcfma.org/event/second-fridays-mediator-community-3/
LOCATION:None
ORGANIZER;CN="Certified Facilitative Mediators Association":MAILTO:info@mtcfma.org
END:VEVENT
BEGIN:VEVENT
DTSTART;TZID=UTC:20241204T150000
DTEND;TZID=UTC:20241207T200000
DTSTAMP:20260425T161539
CREATED:20241118T213347Z
LAST-MODIFIED:20241118T215623Z
UID:3683-1733324400-1733601600@mtcfma.org
SUMMARY:20-Hour Advanced Mediation Course (Virtual)
DESCRIPTION:COST $550 \nDATES:\nDecember 4-6 (W/Th/F 3:00-8:00p.m.)\nDecember 7 (S 8:00a.m-1:00p.m) \nINFORMATION:\nClass led by Carol Barkes\, CPM (Idaho Mediation Association)\n208~477~8973 or email Carol at carol@carolbarkes.com \nTOPICS\nReview of Basic Mediation ⬥ Research and Conflict ⬥ Delivering a Proper Opening Statement ⬥ Maintaining Fairness and Neutrality ⬥\nConfronting Biases ⬥ Overcoming Resistance to Mediation ⬥ Working and Mediating with Attorneys ⬥ Moving Parties from a Past to a\nFuture Focus ⬥ Working with Emotional Parties ⬥ Mediating Virtually\, by Phone\, and Online ⬥ Culture and its Relation to Conflict ⬥ Negotiation Skills \nPAYMENT\nPayment is accepted through cash or check (mail or drop off at 6126 W State Street Ste 303\, Boise ID\, 83706) or Venmo to Carol-Barkes \nWHO SHOULD ATTEND\nAnyone who wants to broaden their knowledge of conflict management techniques as well as mediators who want to broaden their skill set and grow their confidence in mediations. \nINSTRUCTOR – CAROL BARKES\nFox TV has called Carol “one of the TOP Neuroscience and Conflict Resolution experts in the country.” She is a neuroscience-based conflict resolution professional\, mediator\, peak performance specialist and best-selling author with a wide variety of experience.
URL:https://mtcfma.org/event/20-hour-advanced-mediation-course-virtual/
LOCATION:MT
ORGANIZER;CN="Certified Facilitative Mediators Association":MAILTO:info@mtcfma.org
END:VEVENT
BEGIN:VEVENT
DTSTART;TZID=UTC:20241108T130000
DTEND;TZID=UTC:20241108T140000
DTSTAMP:20260425T161539
CREATED:20240924T232039Z
LAST-MODIFIED:20240924T232039Z
UID:3622-1731070800-1731074400@mtcfma.org
SUMMARY:Second Fridays - Mediator Community
DESCRIPTION:The 2nd Fridays Mediator Community is a recurring meeting that earn CEUs approved by Certified Facilitative Mediators Association (CFMA). \n– Promoting Mediation Throughout Montana – \n– Mediators Supporting One Another – \n– Networking Done Right –
URL:https://mtcfma.org/event/second-fridays-mediator-community-2/
LOCATION:None
ORGANIZER;CN="Certified Facilitative Mediators Association":MAILTO:info@mtcfma.org
END:VEVENT
BEGIN:VEVENT
DTSTART;TZID=UTC:20241015T090000
DTEND;TZID=UTC:20241203T110000
DTSTAMP:20260425T161539
CREATED:20241116T160007Z
LAST-MODIFIED:20241116T160044Z
UID:3677-1728982800-1733223600@mtcfma.org
SUMMARY:Conflict Coaching Series (In Progress)
DESCRIPTION:Why Conflict Coaching? \nConflict coaching is the perfect complement to mediation. While mediation focuses on resolving disputes between parties\, conflict coaching empowers individuals to develop the skills and strategies they need to manage conflicts on their own. \nYou’ll learn how to: \n\nGuide clients through the process of identifying issues and creating resolutions.\nTeach effective communication techniques and conflict management strategies.\nAdd coaching skills to your mediation experience to provide transformative 1:1 experiences that extend far beyond the conflict at hand.\n\nConflict Coaching Series – Virtual/Interactive Weekly for 8 Sessions \nTuesdays at 9 – 11 am MST from October 15\, 2024 to December 3\, 2024. \nPresenter:  Nikki Schaubel\, Trainer – Communication Coach – Certified Mediator
URL:https://mtcfma.org/event/conflict-coaching-series-in-progress/
LOCATION:MT
END:VEVENT
BEGIN:VEVENT
DTSTART;TZID=UTC:20241015T090000
DTEND;TZID=UTC:20241015T110000
DTSTAMP:20260425T161539
CREATED:20240925T002810Z
LAST-MODIFIED:20240925T002810Z
UID:3645-1728982800-1728990000@mtcfma.org
SUMMARY:Conflict Coaching - Training for Mediators
DESCRIPTION:Are you a mediator looking to expand your skillset and make an impact in the conflict resolution field?\n\n \n  \nTraining Series – 16 hours over eight weeks (online)\nThrough interactive virtual learning\, practical exercises and live role play you’ll gain the expertise to: \n\nMaster communication\, emotional intelligence\, and coaching techniques that drive lasting behavior change.\nEmpower clients with the skills they need to navigate disputes independently.\nLeverage your mediation expertise to expand your services in the conflict resolution space.\n\n  \n\nWhether you’re looking to grow your practice or enhance your impact\, this course will give you the confidence and competence to guide clients through any conflict situation.\n— Click HERE to register —\nSpace is limited. Don’t miss this opportunity to take your practice to the next level! \nTraining is live and online every Tuesday for 8 weeks beginning Tuesday\, October 15.  \nAttend from anywhere and join a community of like-minded mediators ready to transform their practice through conflict coaching. \n\n \nNikki Schaubel\, MS\, CM \nNikki is a trainer\, communication coach and certified mediator based in Billings MT. Her work is guided by a desire to help others communicate authentically and approach conflict with courage. She has a Bachelors Degree in Organizational Communication and a Masters Degree in Public Relations.
URL:https://mtcfma.org/event/conflict-coaching-training-for-mediators/
LOCATION:MT
END:VEVENT
BEGIN:VEVENT
DTSTART;TZID=UTC:20241011T130000
DTEND;TZID=UTC:20241011T140000
DTSTAMP:20260425T161539
CREATED:20240924T231412Z
LAST-MODIFIED:20240924T232139Z
UID:3608-1728651600-1728655200@mtcfma.org
SUMMARY:Second Fridays - Mediator Community
DESCRIPTION:The 2nd Fridays Mediator Community is a recurring meeting that earn CEUs approved by Certified Facilitative Mediators Association (CFMA). \n– Promoting Mediation Throughout Montana – \n– Mediators Supporting One Another – \n– Networking Done Right –
URL:https://mtcfma.org/event/second-fridays-mediator-community/
LOCATION:None
ORGANIZER;CN="Billings Mediation Center":MAILTO:info@billingsmediationcenter.org
END:VEVENT
BEGIN:VEVENT
DTSTART;VALUE=DATE:20240926
DTEND;VALUE=DATE:20240928
DTSTAMP:20260425T161539
CREATED:20240925T011531Z
LAST-MODIFIED:20240925T011531Z
UID:3654-1727308800-1727481599@mtcfma.org
SUMMARY:The Power and Influence of Mediation - IMA 2024 Annual Conference
DESCRIPTION:Registration is now open!\n \n  \n  \n  \n  \n  \n  \n  \n  \n  \n  \n  \n  \n  \n  \n  \n  \n  \n  \n  \n  \n  \n  \n  \n  \n  \n  \nPlease join us in a virtual format to hear our accomplished presenters. \nApproved for 11.5 MCLE\, including 2.5 ethics (ISB #24-3785) and 13.5 IMA CEUs.
URL:https://mtcfma.org/event/the-power-and-influence-of-mediation-ima-2024-annual-conference/
LOCATION:MT
ORGANIZER;CN="Idaho Mediation Association":MAILTO:admin@idahomediationassociation.org
END:VEVENT
BEGIN:VEVENT
DTSTART;TZID=UTC:20240614T080000
DTEND;TZID=UTC:20240614T170000
DTSTAMP:20260425T161539
CREATED:20240307T145228Z
LAST-MODIFIED:20240307T145228Z
UID:3480-1718352000-1718384400@mtcfma.org
SUMMARY:Mediator Community Meeting - June
DESCRIPTION:
URL:https://mtcfma.org/event/mediator-community-meeting-june/
LOCATION:MT
END:VEVENT
BEGIN:VEVENT
DTSTART;TZID=UTC:20240601T080000
DTEND;TZID=UTC:20240601T170000
DTSTAMP:20260425T161539
CREATED:20240307T144957Z
LAST-MODIFIED:20240307T144957Z
UID:3472-1717228800-1717261200@mtcfma.org
SUMMARY:Skills Lab - June
DESCRIPTION:
URL:https://mtcfma.org/event/skills-lab-june/
LOCATION:MT
END:VEVENT
BEGIN:VEVENT
DTSTART;TZID=UTC:20240514T080000
DTEND;TZID=UTC:20240515T170000
DTSTAMP:20260425T161539
CREATED:20240307T145319Z
LAST-MODIFIED:20240425T174439Z
UID:3482-1715673600-1715792400@mtcfma.org
SUMMARY:2024 CFMA Annual Conference
DESCRIPTION:A mediator is encouraged to join with other mediators and members of related professions to promote professional development. CFMA helps mediators connect as a community through learning opportunities and networking events. \nMark your calendar NOW for  \nCFMA’s first annual conference  \nMay 14-15\, 2024 \nHelena MT \nJoin us for exciting education and networking opportunities!
URL:https://mtcfma.org/event/2024-cfma-annual-conference/
LOCATION:MT
END:VEVENT
END:VCALENDAR